BEGIN:VCALENDAR
VERSION:2.0
PRODID:-// - ECPv6.15.20//NONSGML v1.0//EN
CALSCALE:GREGORIAN
METHOD:PUBLISH
X-ORIGINAL-URL:https://vasodevino.com
X-WR-CALDESC:Events for 
REFRESH-INTERVAL;VALUE=DURATION:PT1H
X-Robots-Tag:noindex
X-PUBLISHED-TTL:PT1H
BEGIN:VTIMEZONE
TZID:America/New_York
BEGIN:DAYLIGHT
TZOFFSETFROM:-0500
TZOFFSETTO:-0400
TZNAME:EDT
DTSTART:20240310T070000
END:DAYLIGHT
BEGIN:STANDARD
TZOFFSETFROM:-0400
TZOFFSETTO:-0500
TZNAME:EST
DTSTART:20241103T060000
END:STANDARD
BEGIN:DAYLIGHT
TZOFFSETFROM:-0500
TZOFFSETTO:-0400
TZNAME:EDT
DTSTART:20250309T070000
END:DAYLIGHT
BEGIN:STANDARD
TZOFFSETFROM:-0400
TZOFFSETTO:-0500
TZNAME:EST
DTSTART:20251102T060000
END:STANDARD
BEGIN:DAYLIGHT
TZOFFSETFROM:-0500
TZOFFSETTO:-0400
TZNAME:EDT
DTSTART:20260308T070000
END:DAYLIGHT
BEGIN:STANDARD
TZOFFSETFROM:-0400
TZOFFSETTO:-0500
TZNAME:EST
DTSTART:20261101T060000
END:STANDARD
END:VTIMEZONE
BEGIN:VEVENT
DTSTART;TZID=America/New_York:20250430T183000
DTEND;TZID=America/New_York:20250430T213000
DTSTAMP:20260424T120259
CREATED:20250310T180329Z
LAST-MODIFIED:20250412T191135Z
UID:3404-1746037800-1746048600@vasodevino.com
SUMMARY:VIP Tasting - Rombauer
DESCRIPTION:Come try some great wines from one of California’s premier wineries\, Rombauer. \nLInk to Rombauer Vineyards website \n  \n \n  \n\n“In 1972\, when Koerner and Joan Rombauer moved their two children\, two horses and five dogs to Napa Valley\, they were already well acquainted with the natural relationship between food and wine. Koerner’s great aunt Irma Rombauer wrote the internationally renowned cookbook\, The Joy of Cooking\, and his German ancestors had deep roots in the winegrowing region of Rheingau. \n\n\nKoerner and Joan established Rombauer Vineyards in 1980\, and in 1984 they released their first California-style Chardonnay and Cabernet Sauvignon wines. Over four decades later\, the winery has become widely acclaimed for its distinctive\, fruit-driven expressions of these beloved varieties and more.”
URL:https://vasodevino.com/upcoming-event-single-post-name/vip-tasting-rombauer/
CATEGORIES:VIP Tasting
END:VEVENT
END:VCALENDAR